BEGIN:VCALENDAR
PRODID:-//eluceo/ical//2.0/EN
VERSION:2.0
CALSCALE:GREGORIAN
BEGIN:VEVENT
UID:2447bbb8e35349d8e81dd5d152f15aad
DTSTAMP:20260425T125834Z
SUMMARY:Gästeapéro Davos
DESCRIPTION:Gästeapéro ab 18.00 Uhr\n\nGästebetreuer:\n\nReto Kühnis un
 d Joe Lauber
URL:https://rotary-davos.ch/is/agenda/show/62077
DTSTART;TZID=Europe/Zurich:20160621T000000
DTEND;TZID=Europe/Zurich:20160621T000000
LOCATION:Morosani Posthotel
CATEGORIES:Rotary
END:VEVENT
BEGIN:VTIMEZONE
TZID:Europe/Zurich
BEGIN:DAYLIGHT
DTSTART:20160621T000000
TZNAME:CEST
TZOFFSETTO:+0200
TZOFFSETFROM:+0200
END:DAYLIGHT
END:VTIMEZONE
END:VCALENDAR
