BEGIN:VCALENDAR
PRODID:-//eluceo/ical//2.0/EN
VERSION:2.0
CALSCALE:GREGORIAN
BEGIN:VEVENT
UID:c439151b60c4d45a5ae1e04fb2541d2e
DTSTAMP:20260421T123701Z
SUMMARY:Lunch
DESCRIPTION:Club-Meeting von 12.00 bis 14.00 Uhr
URL:https://rotary-davos.ch/is/agenda/show/62010
DTSTART;TZID=Europe/Zurich:20160621T120000
DTEND;TZID=Europe/Zurich:20160621T140000
LOCATION:Morosani Posthotel
CATEGORIES:Rotary
END:VEVENT
BEGIN:VTIMEZONE
TZID:Europe/Zurich
BEGIN:DAYLIGHT
DTSTART:20160621T120000
TZNAME:CEST
TZOFFSETTO:+0200
TZOFFSETFROM:+0200
END:DAYLIGHT
END:VTIMEZONE
END:VCALENDAR
