BEGIN:VCALENDAR
PRODID:-//eluceo/ical//2.0/EN
VERSION:2.0
CALSCALE:GREGORIAN
BEGIN:VEVENT
UID:23b29298ca0ae6d51f8f1eb8ca59ef3e
DTSTAMP:20260419T215647Z
SUMMARY:Lunch
DESCRIPTION:Club-Meeting von 12.00 bis 14.00 Uhr
URL:https://rotary-davos.ch/is/agenda/show/60039
DTSTART;TZID=Europe/Zurich:20160510T120000
DTEND;TZID=Europe/Zurich:20160510T120000
LOCATION:Hotel Grischa Davos
CATEGORIES:Rotary
END:VEVENT
BEGIN:VTIMEZONE
TZID:Europe/Zurich
BEGIN:DAYLIGHT
DTSTART:20160510T120000
TZNAME:CEST
TZOFFSETTO:+0200
TZOFFSETFROM:+0200
END:DAYLIGHT
END:VTIMEZONE
END:VCALENDAR
