BEGIN:VCALENDAR
PRODID:-//eluceo/ical//2.0/EN
VERSION:2.0
CALSCALE:GREGORIAN
BEGIN:VEVENT
UID:64eb2686ef98b68a8269d2f1fcddedc2
DTSTAMP:20260425T130302Z
SUMMARY:Lunch
DESCRIPTION:Club-Meeting von 12.00 bis 14.00 Uhr
URL:https://rotary-davos.ch/is/agenda/show/60034
DTSTART;TZID=Europe/Zurich:20160419T120000
DTEND;TZID=Europe/Zurich:20160419T120000
LOCATION:Hotel Grischa Davos
CATEGORIES:Rotary
END:VEVENT
BEGIN:VTIMEZONE
TZID:Europe/Zurich
BEGIN:DAYLIGHT
DTSTART:20160419T120000
TZNAME:CEST
TZOFFSETTO:+0200
TZOFFSETFROM:+0200
END:DAYLIGHT
END:VTIMEZONE
END:VCALENDAR
