BEGIN:VCALENDAR
PRODID:-//eluceo/ical//2.0/EN
VERSION:2.0
CALSCALE:GREGORIAN
BEGIN:VEVENT
UID:48cbedc527d621067590f1259bfe225a
DTSTAMP:20260419T214436Z
SUMMARY:Lunch und ausserordentliche Generalversammlung
DESCRIPTION:Club-Meeting von 12.00 bis 14.00 Uhr
URL:https://rotary-davos.ch/is/agenda/show/60028
DTSTART;TZID=Europe/Zurich:20160405T120000
DTEND;TZID=Europe/Zurich:20160405T120000
LOCATION:Hotel Grischa Davos
CATEGORIES:Rotary
END:VEVENT
BEGIN:VTIMEZONE
TZID:Europe/Zurich
BEGIN:DAYLIGHT
DTSTART:20160405T120000
TZNAME:CEST
TZOFFSETTO:+0200
TZOFFSETFROM:+0200
END:DAYLIGHT
END:VTIMEZONE
END:VCALENDAR
