BEGIN:VCALENDAR
PRODID:-//eluceo/ical//2.0/EN
VERSION:2.0
CALSCALE:GREGORIAN
BEGIN:VEVENT
UID:af63a3207caada2114f66e2a6404fa8b
DTSTAMP:20260419T220411Z
SUMMARY:Apéro
DESCRIPTION:Gästeapéro ab 18.00 Uhr\n\nGästebetreuer:\n\nHacher Bernet u
 nd Claude Schauerte
URL:https://rotary-davos.ch/is/agenda/show/60027
DTSTART;TZID=Europe/Zurich:20160331T180000
DTEND;TZID=Europe/Zurich:20160331T180000
LOCATION:Hotel Alpina Klosters
CATEGORIES:Rotary
END:VEVENT
BEGIN:VTIMEZONE
TZID:Europe/Zurich
BEGIN:DAYLIGHT
DTSTART:20160331T180000
TZNAME:CEST
TZOFFSETTO:+0200
TZOFFSETFROM:+0200
END:DAYLIGHT
END:VTIMEZONE
END:VCALENDAR
