BEGIN:VCALENDAR
PRODID:-//eluceo/ical//2.0/EN
VERSION:2.0
CALSCALE:GREGORIAN
BEGIN:VEVENT
UID:eb0d15fcfe067a629b51ce30bcceedf2
DTSTAMP:20260419T220650Z
SUMMARY:Apéro
DESCRIPTION:Gästeapéro ab 18.00 Uhr\n\nGästebetreuer:\n\nUrs Hoffmann un
 d Hansjörg Künzli
URL:https://rotary-davos.ch/is/agenda/show/60014
DTSTART;TZID=Europe/Zurich:20160301T180000
DTEND;TZID=Europe/Zurich:20160301T180000
LOCATION:Hotel Grischa Davos
CATEGORIES:Rotary
END:VEVENT
BEGIN:VTIMEZONE
TZID:Europe/Zurich
BEGIN:STANDARD
DTSTART:20160301T180000
TZNAME:CET
TZOFFSETTO:+0100
TZOFFSETFROM:+0100
END:STANDARD
END:VTIMEZONE
END:VCALENDAR
