BEGIN:VCALENDAR
PRODID:-//eluceo/ical//2.0/EN
VERSION:2.0
CALSCALE:GREGORIAN
BEGIN:VEVENT
UID:0e9b45739c91d56918a431321fa727fd
DTSTAMP:20260421T085550Z
SUMMARY:Lunch und Vortrag "Spital Davos"
DESCRIPTION:Club-Meeting von 12.00 bis 14.00 Uhr\nFyrirlesari(ar): Rotarier
  Hans Peter Wyss
URL:https://rotary-davos.ch/is/agenda/show/60013
DTSTART;TZID=Europe/Zurich:20160301T120000
DTEND;TZID=Europe/Zurich:20160301T120000
LOCATION:Hotel Grischa Davos
CATEGORIES:Rotary
END:VEVENT
BEGIN:VTIMEZONE
TZID:Europe/Zurich
BEGIN:STANDARD
DTSTART:20160301T120000
TZNAME:CET
TZOFFSETTO:+0100
TZOFFSETFROM:+0100
END:STANDARD
END:VTIMEZONE
END:VCALENDAR
