BEGIN:VCALENDAR
PRODID:-//eluceo/ical//2.0/EN
VERSION:2.0
CALSCALE:GREGORIAN
BEGIN:VEVENT
UID:fa90a76667bd201c15f33359bd4851d5
DTSTAMP:20260423T131723Z
SUMMARY:Apéro
DESCRIPTION:Gästeapéro ab 18.00 Uhr\n\nGästebetreuer:\n\nHans David Meis
 ser und Jann Frey
URL:https://rotary-davos.ch/is/agenda/show/59368
DTSTART;TZID=Europe/Zurich:20160211T180000
DTEND;TZID=Europe/Zurich:20160211T180000
LOCATION:Hotel Alpina Klosters
CATEGORIES:Rotary
END:VEVENT
BEGIN:VTIMEZONE
TZID:Europe/Zurich
BEGIN:STANDARD
DTSTART:20160211T180000
TZNAME:CET
TZOFFSETTO:+0100
TZOFFSETFROM:+0100
END:STANDARD
END:VTIMEZONE
END:VCALENDAR
