BEGIN:VCALENDAR
PRODID:-//eluceo/ical//2.0/EN
VERSION:2.0
CALSCALE:GREGORIAN
BEGIN:VEVENT
UID:cf5b5c053285ae86580a775f18fccb8c
DTSTAMP:20260422T060252Z
SUMMARY:Gästeapéro Davos\, Gastgeber: Markus Derungs und Jürg Flückiger
DESCRIPTION:Site internet: http://www.hotelgrischa.ch
URL:https://rotary-davos.ch/fr/agenda/show/204640
DTSTART;TZID=Europe/Zurich:20251216T180000
DTEND;TZID=Europe/Zurich:20251216T190000
LOCATION:Hotel Grischa\, Talstrasse 3\, 7270 Davos Platz
CATEGORIES:Rotary
END:VEVENT
BEGIN:VTIMEZONE
TZID:Europe/Zurich
BEGIN:STANDARD
DTSTART:20251216T180000
TZNAME:CET
TZOFFSETTO:+0100
TZOFFSETFROM:+0100
END:STANDARD
END:VTIMEZONE
END:VCALENDAR
