BEGIN:VCALENDAR
PRODID:-//eluceo/ical//2.0/EN
VERSION:2.0
CALSCALE:GREGORIAN
BEGIN:VEVENT
UID:f5e297316f34f0c4e75db1cce864ce2d
DTSTAMP:20260422T061837Z
SUMMARY:Gästeapéro Klosters\, Gastgeber C. Maissen und C. Schauerte
DESCRIPTION:Site internet: http://www.alpina-klosters.ch
URL:https://rotary-davos.ch/fr/agenda/show/139419
DTSTART;TZID=Europe/Zurich:20220310T180000
DTEND;TZID=Europe/Zurich:20220310T190000
LOCATION:Hotel Alpina\, Bahnhofstr. 1\, 7250 Klosters
CATEGORIES:Rotary
END:VEVENT
BEGIN:VTIMEZONE
TZID:Europe/Zurich
BEGIN:STANDARD
DTSTART:20220310T180000
TZNAME:CET
TZOFFSETTO:+0100
TZOFFSETFROM:+0100
END:STANDARD
END:VTIMEZONE
END:VCALENDAR
