BEGIN:VCALENDAR
PRODID:-//eluceo/ical//2.0/EN
VERSION:2.0
CALSCALE:GREGORIAN
BEGIN:VEVENT
UID:1ce5b2ecf1a318eac20be01f0fc339af
DTSTAMP:20260422T060207Z
SUMMARY:Gästeapéro Davos\, Gastgeber R. Stiffler und U. Krähenbühl
DESCRIPTION:Site internet: http://www.hotelgrischa.ch
URL:https://rotary-davos.ch/fr/agenda/show/139415
DTSTART;TZID=Europe/Zurich:20220301T180000
DTEND;TZID=Europe/Zurich:20220301T190000
LOCATION:Hotel Grischa\, Talstrasse 3\, 7270 Davos Platz
CATEGORIES:Rotary
END:VEVENT
BEGIN:VTIMEZONE
TZID:Europe/Zurich
BEGIN:STANDARD
DTSTART:20220301T180000
TZNAME:CET
TZOFFSETTO:+0100
TZOFFSETFROM:+0100
END:STANDARD
END:VTIMEZONE
END:VCALENDAR
