BEGIN:VCALENDAR
PRODID:-//eluceo/ical//2.0/EN
VERSION:2.0
CALSCALE:GREGORIAN
BEGIN:VEVENT
UID:dd317232b77cefe3a1013c7c0185f0da
DTSTAMP:20260422T055754Z
SUMMARY:Gästeapéro Klosters\, Gastgeber A. Maissen und H.D. Meisser
DESCRIPTION:Site internet: http://www.alpina-klosters.ch\nConférencier(s):
  GastgeberHans David Meisser und Andreas Maissen
URL:https://rotary-davos.ch/fr/agenda/show/135816
DTSTART;TZID=Europe/Zurich:20220224T180000
DTEND;TZID=Europe/Zurich:20220224T190000
LOCATION:Hotel Alpina\, Bahnhofstr. 1\, 7250 Klosters
CATEGORIES:Rotary
END:VEVENT
BEGIN:VTIMEZONE
TZID:Europe/Zurich
BEGIN:STANDARD
DTSTART:20220224T180000
TZNAME:CET
TZOFFSETTO:+0100
TZOFFSETFROM:+0100
END:STANDARD
END:VTIMEZONE
END:VCALENDAR
