BEGIN:VCALENDAR
PRODID:-//eluceo/ical//2.0/EN
VERSION:2.0
CALSCALE:GREGORIAN
BEGIN:VEVENT
UID:5b62d51943bd612530511bc512f07b89
DTSTAMP:20260422T055921Z
SUMMARY:Gästeapéro Davos\, Gastgeber A. Winzeler und W. Schmutz
DESCRIPTION:Site internet: http://www.hotelgrischa.ch\nConférencier(s): Ga
 stgeberHanspeter Schmid und Werner Schmutz
URL:https://rotary-davos.ch/fr/agenda/show/135815
DTSTART;TZID=Europe/Zurich:20220222T180000
DTEND;TZID=Europe/Zurich:20220222T190000
LOCATION:Hotel Grischa\, Talstrasse 3\, 7270 Davos Platz
CATEGORIES:Rotary
END:VEVENT
BEGIN:VTIMEZONE
TZID:Europe/Zurich
BEGIN:STANDARD
DTSTART:20220222T180000
TZNAME:CET
TZOFFSETTO:+0100
TZOFFSETFROM:+0100
END:STANDARD
END:VTIMEZONE
END:VCALENDAR
