BEGIN:VCALENDAR
PRODID:-//eluceo/ical//2.0/EN
VERSION:2.0
CALSCALE:GREGORIAN
BEGIN:VEVENT
UID:5c61831d648f2ec7f746250334d63a3a
DTSTAMP:20260422T060121Z
SUMMARY:Gästeapéro Klosters\, Gastegeber S. Andres und W. Rohrer
DESCRIPTION:Site internet: http://www.alpina-klosters.ch\nConférencier(s):
  Gastgeber Silvio Andres und Wolfgang Rohrer
URL:https://rotary-davos.ch/fr/agenda/show/135813
DTSTART;TZID=Europe/Zurich:20220217T180000
DTEND;TZID=Europe/Zurich:20220217T190000
LOCATION:Hotel Alpina\, Bahnhofstr. 1\, 7250 Klosters
CATEGORIES:Rotary
END:VEVENT
BEGIN:VTIMEZONE
TZID:Europe/Zurich
BEGIN:STANDARD
DTSTART:20220217T180000
TZNAME:CET
TZOFFSETTO:+0100
TZOFFSETFROM:+0100
END:STANDARD
END:VTIMEZONE
END:VCALENDAR
