BEGIN:VCALENDAR
PRODID:-//eluceo/ical//2.0/EN
VERSION:2.0
CALSCALE:GREGORIAN
BEGIN:VEVENT
UID:4de02b3c38c96118391c2eed43fc2bfb
DTSTAMP:20260422T074938Z
SUMMARY:Gästeapéro Davos\, Gastgeber M. Omlin und G. Niedermaier
DESCRIPTION:Site internet: http://www.hotelgrischa.ch\nConférencier(s): Ga
 stgeberMichael Omlin und Gregor Niedermaier
URL:https://rotary-davos.ch/fr/agenda/show/135795
DTSTART;TZID=Europe/Zurich:20220208T180000
DTEND;TZID=Europe/Zurich:20220208T190000
LOCATION:Hotel Grischa\, Talstrasse 3\, 7270 Davos Platz
CATEGORIES:Rotary
END:VEVENT
BEGIN:VTIMEZONE
TZID:Europe/Zurich
BEGIN:STANDARD
DTSTART:20220208T180000
TZNAME:CET
TZOFFSETTO:+0100
TZOFFSETFROM:+0100
END:STANDARD
END:VTIMEZONE
END:VCALENDAR
