BEGIN:VCALENDAR
PRODID:-//eluceo/ical//2.0/EN
VERSION:2.0
CALSCALE:GREGORIAN
BEGIN:VEVENT
UID:4a788b868a6e17a20ee4f607ba821c0b
DTSTAMP:20260422T085345Z
SUMMARY:Gästeapéro Klosters\, Gastgeber C. Maissen und A. Maissen
DESCRIPTION:Site internet: http://www.alpina-klosters.ch\nConférencier(s):
  GastgeberClau Maissen und Andreas Maissen
URL:https://rotary-davos.ch/fr/agenda/show/135790
DTSTART;TZID=Europe/Zurich:20220127T180000
DTEND;TZID=Europe/Zurich:20220127T190000
LOCATION:Hotel Alpina\, Bahnhofstr. 1\, 7250 Klosters
CATEGORIES:Rotary
END:VEVENT
BEGIN:VTIMEZONE
TZID:Europe/Zurich
BEGIN:STANDARD
DTSTART:20220127T180000
TZNAME:CET
TZOFFSETTO:+0100
TZOFFSETFROM:+0100
END:STANDARD
END:VTIMEZONE
END:VCALENDAR
