BEGIN:VCALENDAR
PRODID:-//eluceo/ical//2.0/EN
VERSION:2.0
CALSCALE:GREGORIAN
BEGIN:VEVENT
UID:64c4fba8a00be4991b17350591425bbf
DTSTAMP:20260422T084118Z
SUMMARY:Gästeapéro Davos\, Gastgeber M. Kammann und D. Paganini
DESCRIPTION:Site internet: http://www.hotelgrischa.ch\nConférencier(s): Ga
 stgeberMarc Kammann und Daniele Paganini
URL:https://rotary-davos.ch/fr/agenda/show/135786
DTSTART;TZID=Europe/Zurich:20220118T180000
DTEND;TZID=Europe/Zurich:20220118T190000
LOCATION:Hotel Grischa\, Talstrasse 3\, 7270 Davos Platz
CATEGORIES:Rotary
END:VEVENT
BEGIN:VTIMEZONE
TZID:Europe/Zurich
BEGIN:STANDARD
DTSTART:20220118T180000
TZNAME:CET
TZOFFSETTO:+0100
TZOFFSETFROM:+0100
END:STANDARD
END:VTIMEZONE
END:VCALENDAR
